BEGIN:VCALENDAR
VERSION:2.0
PRODID:concerti//https://www.concerti.de
CALSCALE:GREGORIAN
BEGIN:VTIMEZONE
TZID:Europe/Berlin
X-LIC-LOCATION:Europe/Berlin
BEGIN:DAYLIGHT
TZOFFSETFROM:+0100
TZOFFSETTO:+0200
TZNAME:CEST
DTSTART:19700329T020000
RRULE:FREQ=YEARLY;BYMONTH=3;BYDAY=-1SU
END:DAYLIGHT
BEGIN:STANDARD
TZOFFSETFROM:+0200
TZOFFSETTO:+0100
TZNAME:CET
DTSTART:19701025T030000
RRULE:FREQ=YEARLY;BYMONTH=10;BYDAY=-1SU
END:STANDARD
END:VTIMEZONE
BEGIN:VEVENT
UID:41be64f5ca2a20e573d4ef0668c07c9e
SUMMARY:Marlis Petersen (Sopran), mit Matthias Lademann (Klavier)
URL:https://www.concerti.de/termine/marlis-petersen-sopran-mit-matthias-lademann-klavier-gemeindezentrum-iffeldorf-799343/
DTSTART;TZID=Europe/Berlin:20260613T190000
DTEND;TZID=Europe/Berlin:20260613T210000
DESCRIPTION:Interpreten: Marlis Petersen (Sopran)\, mit Matthias Lademann (Klavier) \nProgramm: Werke von Schumann\, R. Strauss u. a. \nhttps://www.concerti.de/termine/marlis-petersen-sopran-mit-matthias-lademann-klavier-gemeindezentrum-iffeldorf-799343/
LOCATION:Gemeindezentrum Iffeldorf\, Hofmark 9\, 82393 Iffeldorf
END:VEVENT
END:VCALENDAR