BEGIN:VCALENDAR
VERSION:2.0
PRODID:concerti//https://www.concerti.de
CALSCALE:GREGORIAN
BEGIN:VTIMEZONE
TZID:Europe/Berlin
X-LIC-LOCATION:Europe/Berlin
BEGIN:DAYLIGHT
TZOFFSETFROM:+0100
TZOFFSETTO:+0200
TZNAME:CEST
DTSTART:19700329T020000
RRULE:FREQ=YEARLY;BYMONTH=3;BYDAY=-1SU
END:DAYLIGHT
BEGIN:STANDARD
TZOFFSETFROM:+0200
TZOFFSETTO:+0100
TZNAME:CET
DTSTART:19701025T030000
RRULE:FREQ=YEARLY;BYMONTH=10;BYDAY=-1SU
END:STANDARD
END:VTIMEZONE
BEGIN:VEVENT
UID:508551748ec2bd2cac094d5f29d24bbb
SUMMARY:Suppè: Boccaccio - Lehár Festival Bad Ischl
URL:https://www.concerti.de/termine/suppe-boccaccio-kongress-theaterhaus-798197/
DTSTART;TZID=Europe/Berlin:20260806T153000
DTEND;TZID=Europe/Berlin:20260806T173000
DESCRIPTION:Interpreten: Maria Ladurner (Fiametta)\, Christina Sidak (Giovanni Boccaccio)\, Gerd Vogel (Lotteringhi)\, Domenica Radlmaier (Isabella)\, Martin Lechleitner (Pietro)\, Hans Gröning (Lambertuccio)\, Miriam Portmann (Peronella)\, Christoph Huber (Leitung)\, Thomas Enzinger (Regie) \nhttps://www.concerti.de/termine/suppe-boccaccio-kongress-theaterhaus-798197/
LOCATION:Kongress &amp\; Theaterhaus\, Kurhausstraße 8\, 4820 Bad Ischl
END:VEVENT
END:VCALENDAR