BEGIN:VCALENDAR
VERSION:2.0
PRODID:concerti//https://www.concerti.de
CALSCALE:GREGORIAN
BEGIN:VTIMEZONE
TZID:Europe/Berlin
X-LIC-LOCATION:Europe/Berlin
BEGIN:DAYLIGHT
TZOFFSETFROM:+0100
TZOFFSETTO:+0200
TZNAME:CEST
DTSTART:19700329T020000
RRULE:FREQ=YEARLY;BYMONTH=3;BYDAY=-1SU
END:DAYLIGHT
BEGIN:STANDARD
TZOFFSETFROM:+0200
TZOFFSETTO:+0100
TZNAME:CET
DTSTART:19701025T030000
RRULE:FREQ=YEARLY;BYMONTH=10;BYDAY=-1SU
END:STANDARD
END:VTIMEZONE
BEGIN:VEVENT
UID:b5b8617ba72e6018789097da3e66aedc
SUMMARY:Donizetti: La Mamma!
URL:https://www.concerti.de/termine/donizetti-la-mamma-hessisches-staatstheater-797327/
DTSTART;TZID=Europe/Berlin:20260624T193000
DTEND;TZID=Europe/Berlin:20260624T213000
DESCRIPTION:Interpreten: Inna Fedorii (Primadonna)\, Jack Lee (Ehemann der Primadonna)\, Hovhannes Karapetyan (Mamma)\, Sarah Yang (Tochter)\, Silvia Hauer (Sängerin)\, Joshua Sanders (Tenor)\, Paul Taubitz (Leitung)\, Wolfgang Nägele (Regie) \nhttps://www.concerti.de/termine/donizetti-la-mamma-hessisches-staatstheater-797327/
LOCATION:Hessisches Staatstheater\, Christian-Zais-Straße 3\, 65189 Wiesbaden
END:VEVENT
END:VCALENDAR