BEGIN:VCALENDAR
VERSION:2.0
PRODID:concerti//https://www.concerti.de
CALSCALE:GREGORIAN
BEGIN:VTIMEZONE
TZID:Europe/Berlin
X-LIC-LOCATION:Europe/Berlin
BEGIN:DAYLIGHT
TZOFFSETFROM:+0100
TZOFFSETTO:+0200
TZNAME:CEST
DTSTART:19700329T020000
RRULE:FREQ=YEARLY;BYMONTH=3;BYDAY=-1SU
END:DAYLIGHT
BEGIN:STANDARD
TZOFFSETFROM:+0200
TZOFFSETTO:+0100
TZNAME:CET
DTSTART:19701025T030000
RRULE:FREQ=YEARLY;BYMONTH=10;BYDAY=-1SU
END:STANDARD
END:VTIMEZONE
BEGIN:VEVENT
UID:de1159169d6098b5fc13511ba354495c
SUMMARY:Matthias Schorn (Klarinette), Manuel Huber (Horn), David Seidel (Fagott), Dominik Wagner (Kontrabass), Minetti Quartett - Schubertiade Hohenems / Schwarzenberg
URL:https://www.concerti.de/termine/matthias-schorn-klarinette-manuel-huber-horn-david-seidel-fagott-dominik-wagner-kontrabass-minetti-quartett-794734/
DTSTART;TZID=Europe/Berlin:20260826T160000
DTEND;TZID=Europe/Berlin:20260826T180000
DESCRIPTION:Interpreten: Matthias Schorn (Klarinette)\, Manuel Huber (Horn)\, David Seidel (Fagott)\, Dominik Wagner (Kontrabass)\, Minetti Quartett \nProgramm: Schubert: Streichquartett C-Dur D 46 & Oktett F-Dur D 803 \nhttps://www.concerti.de/termine/matthias-schorn-klarinette-manuel-huber-horn-david-seidel-fagott-dominik-wagner-kontrabass-minetti-quartett-794734/
LOCATION:Angelika-Kauffmann-Saal\, Schwarzenberg
END:VEVENT
END:VCALENDAR