BEGIN:VCALENDAR
VERSION:2.0
PRODID:concerti//https://www.concerti.de
CALSCALE:GREGORIAN
BEGIN:VTIMEZONE
TZID:Europe/Berlin
X-LIC-LOCATION:Europe/Berlin
BEGIN:DAYLIGHT
TZOFFSETFROM:+0100
TZOFFSETTO:+0200
TZNAME:CEST
DTSTART:19700329T020000
RRULE:FREQ=YEARLY;BYMONTH=3;BYDAY=-1SU
END:DAYLIGHT
BEGIN:STANDARD
TZOFFSETFROM:+0200
TZOFFSETTO:+0100
TZNAME:CET
DTSTART:19701025T030000
RRULE:FREQ=YEARLY;BYMONTH=10;BYDAY=-1SU
END:STANDARD
END:VTIMEZONE
BEGIN:VEVENT
UID:d7303ec63eed491c98a1c501d72f373f
SUMMARY:Renaud Capuçon (Violine), Gérard Caussé (Viola), Julia Hagen (Violoncello), Lorraine Campet (Kontrabass), Guillaume Bellom (Klavier) - Schubertiade Hohenems / Schwarzenberg
URL:https://www.concerti.de/termine/renaud-capucon-violine-gerard-causse-viola-julia-hagen-violoncello-lorraine-campet-kontrabass-guillaume-bellom-klavier-794664/
DTSTART;TZID=Europe/Berlin:20260621T110000
DTEND;TZID=Europe/Berlin:20260621T130000
DESCRIPTION:Interpreten: Renaud Capuçon (Violine)\, Gérard Caussé (Viola)\, Julia Hagen (Violoncello)\, Lorraine Campet (Kontrabass)\, Guillaume Bellom (Klavier) \nProgramm: Schubert: Klaviertrio B-Dur D 898 & Klavierquintett A-Dur D 667 „Forellenquintett“ \nhttps://www.concerti.de/termine/renaud-capucon-violine-gerard-causse-viola-julia-hagen-violoncello-lorraine-campet-kontrabass-guillaume-bellom-klavier-794664/
LOCATION:Angelika-Kauffmann-Saal\, Schwarzenberg
END:VEVENT
END:VCALENDAR