BEGIN:VCALENDAR
VERSION:2.0
PRODID:concerti//https://www.concerti.de
CALSCALE:GREGORIAN
BEGIN:VTIMEZONE
TZID:Europe/Berlin
X-LIC-LOCATION:Europe/Berlin
BEGIN:DAYLIGHT
TZOFFSETFROM:+0100
TZOFFSETTO:+0200
TZNAME:CEST
DTSTART:19700329T020000
RRULE:FREQ=YEARLY;BYMONTH=3;BYDAY=-1SU
END:DAYLIGHT
BEGIN:STANDARD
TZOFFSETFROM:+0200
TZOFFSETTO:+0100
TZNAME:CET
DTSTART:19701025T030000
RRULE:FREQ=YEARLY;BYMONTH=10;BYDAY=-1SU
END:STANDARD
END:VTIMEZONE
BEGIN:VEVENT
UID:f965530956c48c0cc3bcd454612736d3
SUMMARY:Festlicher Klangzauber - Bösendorfer Klavierwelten
URL:https://www.concerti.de/termine/festlicher-klangzauber-794652/
DTSTART;TZID=Europe/Berlin:20260602T193000
DTEND;TZID=Europe/Berlin:20260602T213000
DESCRIPTION:Interpreten: Ekaterina Frolova (Violine)\, Donka Angatscheva (Klavier) \nProgramm: C. Schumann: Drei Romanzen op. 22\, Mozart: Violinsonate B-Dur KV 378\, Schumann: Violinsonate Nr. 1 a-Moll op. 105\, Ysaÿe: Caprice d’après l’Étude en Forme de Valse op. 52 \nhttps://www.concerti.de/termine/festlicher-klangzauber-794652/
LOCATION:Stadttheater\, Wiener Neustadt
END:VEVENT
END:VCALENDAR