BEGIN:VCALENDAR
VERSION:2.0
PRODID:concerti//https://www.concerti.de
CALSCALE:GREGORIAN
BEGIN:VTIMEZONE
TZID:Europe/Berlin
X-LIC-LOCATION:Europe/Berlin
BEGIN:DAYLIGHT
TZOFFSETFROM:+0100
TZOFFSETTO:+0200
TZNAME:CEST
DTSTART:19700329T020000
RRULE:FREQ=YEARLY;BYMONTH=3;BYDAY=-1SU
END:DAYLIGHT
BEGIN:STANDARD
TZOFFSETFROM:+0200
TZOFFSETTO:+0100
TZNAME:CET
DTSTART:19701025T030000
RRULE:FREQ=YEARLY;BYMONTH=10;BYDAY=-1SU
END:STANDARD
END:VTIMEZONE
BEGIN:VEVENT
UID:6adb6dc64ce31774554e569b5dd77c5d
SUMMARY:Isabel Schicketanz (Sopran), Alex Potter (Altus), Patrick Grahl (Tenor), Tobias Berndt (Bass), Gaechinger Cantorey, Hans-Christoph Rademann (Leitung) - Vision.Bach
URL:https://www.concerti.de/termine/isabel-schicketanz-sopran-alex-potter-altus-patrick-grahl-tenor-tobias-berndt-bass-gaechinger-cantorey-hans-christoph-rademann-leitung-792921/
DTSTART;TZID=Europe/Berlin:20260717T190000
DTEND;TZID=Europe/Berlin:20260717T210000
DESCRIPTION:Interpreten: Isabel Schicketanz (Sopran)\, Alex Potter (Altus)\, Patrick Grahl (Tenor)\, Tobias Berndt (Bass)\, Gaechinger Cantorey\, Hans-Christoph Rademann (Leitung) \nProgramm: J. S. Bach: Gott fähret auf mit Jauchzen! BWV 43\, Brich dem Hungrigen dein Brot BWV 39\, Siehe\, ich will viel Fischer aussenden BWV 88 & Vergnügte Ruh\, beliebte Seelenlust BWV 170 \nhttps://www.concerti.de/termine/isabel-schicketanz-sopran-alex-potter-altus-patrick-grahl-tenor-tobias-berndt-bass-gaechinger-cantorey-hans-christoph-rademann-leitung-792921/
LOCATION:Johanneskirche am Feuersee\, Stuttgart
END:VEVENT
END:VCALENDAR