BEGIN:VCALENDAR
VERSION:2.0
PRODID:concerti//https://www.concerti.de
CALSCALE:GREGORIAN
BEGIN:VTIMEZONE
TZID:Europe/Berlin
X-LIC-LOCATION:Europe/Berlin
BEGIN:DAYLIGHT
TZOFFSETFROM:+0100
TZOFFSETTO:+0200
TZNAME:CEST
DTSTART:19700329T020000
RRULE:FREQ=YEARLY;BYMONTH=3;BYDAY=-1SU
END:DAYLIGHT
BEGIN:STANDARD
TZOFFSETFROM:+0200
TZOFFSETTO:+0100
TZNAME:CET
DTSTART:19701025T030000
RRULE:FREQ=YEARLY;BYMONTH=10;BYDAY=-1SU
END:STANDARD
END:VTIMEZONE
BEGIN:VEVENT
UID:7a41c1299e3165185b2152221b91b335
SUMMARY:Tabea Zimmermann (Viola), Belcea Quartett
URL:https://www.concerti.de/termine/tabea-zimmermann-viola-belcea-quartett-konzerthaus-wien-792355/
DTSTART;TZID=Europe/Berlin:20260529T193000
DTEND;TZID=Europe/Berlin:20260529T213000
DESCRIPTION:Interpreten: Belcea Quartet\, Tabea Zimmermann (Viola)\, Belcea Quartett \nProgramm: Mozart: Streichquintett g-Moll KV 516\, Brahms: Streichquintett Nr. 1 F-Dur op. 88 \nhttps://www.concerti.de/termine/tabea-zimmermann-viola-belcea-quartett-konzerthaus-wien-792355/
LOCATION:Wiener Konzerthaus\, Lothringerstraße 20\, 1030 Wien
END:VEVENT
END:VCALENDAR