BEGIN:VCALENDAR
VERSION:2.0
PRODID:concerti//https://www.concerti.de
CALSCALE:GREGORIAN
BEGIN:VTIMEZONE
TZID:Europe/Berlin
X-LIC-LOCATION:Europe/Berlin
BEGIN:DAYLIGHT
TZOFFSETFROM:+0100
TZOFFSETTO:+0200
TZNAME:CEST
DTSTART:19700329T020000
RRULE:FREQ=YEARLY;BYMONTH=3;BYDAY=-1SU
END:DAYLIGHT
BEGIN:STANDARD
TZOFFSETFROM:+0200
TZOFFSETTO:+0100
TZNAME:CET
DTSTART:19701025T030000
RRULE:FREQ=YEARLY;BYMONTH=10;BYDAY=-1SU
END:STANDARD
END:VTIMEZONE
BEGIN:VEVENT
UID:4328c2ce4e3620f76e717f8a65075e64
SUMMARY:Lang Lang (Klavier)
URL:https://www.concerti.de/termine/lang-lang-klavier-konzerthaus-wien-792336/
DTSTART;TZID=Europe/Berlin:20260521T193000
DTEND;TZID=Europe/Berlin:20260521T213000
DESCRIPTION:Interpreten: Lang Lang (Klavier) \nProgramm: Mozart: Rondo D-Dur KV 485\, Beethoven: Sonaten c-Moll op. 13 „Grande Sonate Pathétique“ & As-Dur op. 110\, Granados: Quejas\, o La maja y el ruiseñor & El fandango de candil\, Werke von Albéniz op. 47 (Auswahl) \nhttps://www.concerti.de/termine/lang-lang-klavier-konzerthaus-wien-792336/
LOCATION:Wiener Konzerthaus\, Lothringerstraße 20\, 1030 Wien
END:VEVENT
END:VCALENDAR