BEGIN:VCALENDAR
VERSION:2.0
PRODID:concerti//https://www.concerti.de
CALSCALE:GREGORIAN
BEGIN:VTIMEZONE
TZID:Europe/Berlin
X-LIC-LOCATION:Europe/Berlin
BEGIN:DAYLIGHT
TZOFFSETFROM:+0100
TZOFFSETTO:+0200
TZNAME:CEST
DTSTART:19700329T020000
RRULE:FREQ=YEARLY;BYMONTH=3;BYDAY=-1SU
END:DAYLIGHT
BEGIN:STANDARD
TZOFFSETFROM:+0200
TZOFFSETTO:+0100
TZNAME:CET
DTSTART:19701025T030000
RRULE:FREQ=YEARLY;BYMONTH=10;BYDAY=-1SU
END:STANDARD
END:VTIMEZONE
BEGIN:VEVENT
UID:2b03c8bc37d0f9a4b5e506bd2b8b4bcf
SUMMARY:Nikolaj Szeps-Znaider (Violine), Daniil Trifonov (Klavier)
URL:https://www.concerti.de/termine/nikolaj-szeps-znaider-violine-daniil-trifonov-klavier-konzerthaus-wien-792304/
DTSTART;TZID=Europe/Berlin:20260513T193000
DTEND;TZID=Europe/Berlin:20260513T213000
DESCRIPTION:Interpreten: Nikolaj Szeps-Znaider (Violine)\, Daniil Trifonov (Klavier) \nProgramm: C. Schumann: Drei Romanzen op. 11\, Schumann: Sonate Nr. 2 d-Moll op. 121\, Webern: Vier Stücke op. 7\, Beethoven: Violinsonate A-Dur op. 47 „Kreutzer“ \nhttps://www.concerti.de/termine/nikolaj-szeps-znaider-violine-daniil-trifonov-klavier-konzerthaus-wien-792304/
LOCATION:Wiener Konzerthaus\, Lothringerstraße 20\, 1030 Wien
END:VEVENT
END:VCALENDAR