BEGIN:VCALENDAR
VERSION:2.0
PRODID:concerti//https://www.concerti.de
CALSCALE:GREGORIAN
BEGIN:VTIMEZONE
TZID:Europe/Berlin
X-LIC-LOCATION:Europe/Berlin
BEGIN:DAYLIGHT
TZOFFSETFROM:+0100
TZOFFSETTO:+0200
TZNAME:CEST
DTSTART:19700329T020000
RRULE:FREQ=YEARLY;BYMONTH=3;BYDAY=-1SU
END:DAYLIGHT
BEGIN:STANDARD
TZOFFSETFROM:+0200
TZOFFSETTO:+0100
TZNAME:CET
DTSTART:19701025T030000
RRULE:FREQ=YEARLY;BYMONTH=10;BYDAY=-1SU
END:STANDARD
END:VTIMEZONE
BEGIN:VEVENT
UID:5a50d9f2e62a96df2aa7ef6cb105e9e3
SUMMARY:Gabriel Meloni (Klavier), Michael Dangl (Rezitation) - Musik & Dichtung
URL:https://www.concerti.de/termine/gabriel-meloni-klavier-michael-dangl-rezitation-konzerthaus-wien-792301/
DTSTART;TZID=Europe/Berlin:20260513T123000
DTEND;TZID=Europe/Berlin:20260513T143000
DESCRIPTION:Interpreten: Gabriel Meloni (Klavier)\, Michael Dangl (Rezitation) \nProgramm: Skrjabin: Vers la flamme. Poème op. 72\, Mahler: Adagietto aus Sinfonie Nr. 5\, Tschaikowsky/Volodos: Kolibel\'naja pesn\' j burju „Wiegenlied im Sturm“ op. 54/10\, Schostakowitsch: 24 Präludien op. 34 (Auswahl)\, Lesung aus Mann: Buddenbrooks „Im Reich der Gedanken“ \nhttps://www.concerti.de/termine/gabriel-meloni-klavier-michael-dangl-rezitation-konzerthaus-wien-792301/
LOCATION:Wiener Konzerthaus\, Lothringerstraße 20\, 1030 Wien
END:VEVENT
END:VCALENDAR