BEGIN:VCALENDAR
VERSION:2.0
PRODID:concerti//https://www.concerti.de
CALSCALE:GREGORIAN
BEGIN:VTIMEZONE
TZID:Europe/Berlin
X-LIC-LOCATION:Europe/Berlin
BEGIN:DAYLIGHT
TZOFFSETFROM:+0100
TZOFFSETTO:+0200
TZNAME:CEST
DTSTART:19700329T020000
RRULE:FREQ=YEARLY;BYMONTH=3;BYDAY=-1SU
END:DAYLIGHT
BEGIN:STANDARD
TZOFFSETFROM:+0200
TZOFFSETTO:+0100
TZNAME:CET
DTSTART:19701025T030000
RRULE:FREQ=YEARLY;BYMONTH=10;BYDAY=-1SU
END:STANDARD
END:VTIMEZONE
BEGIN:VEVENT
UID:f25971b2f369a0b7d701fe27fbcc6607
SUMMARY:Nicolas Baldeyrou (Bassettklarinette), Chiaroscuro Quartet
URL:https://www.concerti.de/termine/nicolas-baldeyrou-bassklarinette-chiaroscuro-quartet-konzerthaus-wien-792288/
DTSTART;TZID=Europe/Berlin:20260510T193000
DTEND;TZID=Europe/Berlin:20260510T213000
DESCRIPTION:Interpreten: Nicolas Baldeyrou (Bassettklarinette)\, Chiaroscuro Quartet \nProgramm: Haydn: Streichquartette Es-Dur Hob. III:31 & C-Dur Hob. III:32\, Mozart: Klarinettenquintett A-Dur KV 581 „Stadler-Quintett“ \nhttps://www.concerti.de/termine/nicolas-baldeyrou-bassklarinette-chiaroscuro-quartet-konzerthaus-wien-792288/
LOCATION:Wiener Konzerthaus\, Lothringerstraße 20\, 1030 Wien
END:VEVENT
END:VCALENDAR