BEGIN:VCALENDAR
VERSION:2.0
PRODID:concerti//https://www.concerti.de
CALSCALE:GREGORIAN
BEGIN:VTIMEZONE
TZID:Europe/Berlin
X-LIC-LOCATION:Europe/Berlin
BEGIN:DAYLIGHT
TZOFFSETFROM:+0100
TZOFFSETTO:+0200
TZNAME:CEST
DTSTART:19700329T020000
RRULE:FREQ=YEARLY;BYMONTH=3;BYDAY=-1SU
END:DAYLIGHT
BEGIN:STANDARD
TZOFFSETFROM:+0200
TZOFFSETTO:+0100
TZNAME:CET
DTSTART:19701025T030000
RRULE:FREQ=YEARLY;BYMONTH=10;BYDAY=-1SU
END:STANDARD
END:VTIMEZONE
BEGIN:VEVENT
UID:7ae65fc40f18d6be15f33421f4749b20
SUMMARY:Kammerkonzert
URL:https://www.concerti.de/termine/kammerkonzert-historische-stadthalle-790127/
DTSTART;TZID=Europe/Berlin:20260715T193000
DTEND;TZID=Europe/Berlin:20260715T213000
DESCRIPTION:Interpreten: Dorothee Mields (Sopran)\, Bettina Ranch (Alt)\, Florian Sievers (Tenor)\, Thomas Laske (Bariton)\, Jens-Peter Enk (Orgel)\, Wuppertaler Kurrende\, Poznan Boys\' Choir\, Sinfonieorchester Wuppertal\, Lukas Baumann (Leitung)\, Axel Heß (Violine)\, Florian Glocker (Viola)\, Anne Yumino Weber (Violoncello)\, Daniel Seroussi (Klavier) \nProgramm: Mozart: Ouvertüre zu \,\,Don Giovanni“ KV 527 & Requiem d-Moll KV 626\, Poulenc: Konzert für Orgel\, Streicher und Pauke g-Moll \nhttps://www.concerti.de/termine/kammerkonzert-historische-stadthalle-790127/
LOCATION:Historische Stadthalle Wuppertal\, Johannisberg 40\, 42103 Wuppertal
END:VEVENT
END:VCALENDAR