BEGIN:VCALENDAR
VERSION:2.0
PRODID:concerti//https://www.concerti.de
CALSCALE:GREGORIAN
BEGIN:VTIMEZONE
TZID:Europe/Berlin
X-LIC-LOCATION:Europe/Berlin
BEGIN:DAYLIGHT
TZOFFSETFROM:+0100
TZOFFSETTO:+0200
TZNAME:CEST
DTSTART:19700329T020000
RRULE:FREQ=YEARLY;BYMONTH=3;BYDAY=-1SU
END:DAYLIGHT
BEGIN:STANDARD
TZOFFSETFROM:+0200
TZOFFSETTO:+0100
TZNAME:CET
DTSTART:19701025T030000
RRULE:FREQ=YEARLY;BYMONTH=10;BYDAY=-1SU
END:STANDARD
END:VTIMEZONE
BEGIN:VEVENT
UID:b8cd210b82d9d3430c431468f484ab05
SUMMARY:Emily D’Angelo (Mezzosopran), Andrew Staples (Tenor), Rafael Fingerlos (Bariton), Wiener Symphoniker, Dalia Stasevska (Leitung) - Bregenzer Festspiele
URL:https://www.concerti.de/termine/emily-dangelo-mezzosopran-andrew-staples-tenor-rafael-fingerlos-bariton-wiener-symphoniker-dalia-stasevska-leitung-789736/
DTSTART;TZID=Europe/Berlin:20260727T193000
DTEND;TZID=Europe/Berlin:20260727T213000
DESCRIPTION:Interpreten: Emily D’Angelo (Mezzosopran)\, Andrew Staples (Tenor)\, Rafael Fingerlos (Bariton)\, Wiener Symphoniker\, Dalia Stasevska (Leitung) \nProgramm: Saariaho: Ciel d’hiver\, L. Boulanger: Faust et Hélène\, Dvořák: Sinfonie Nr. 9 e-Moll „Aus der Neuen Welt“ \nhttps://www.concerti.de/termine/emily-dangelo-mezzosopran-andrew-staples-tenor-rafael-fingerlos-bariton-wiener-symphoniker-dalia-stasevska-leitung-789736/
LOCATION:Festspielhaus\, Bregenz
END:VEVENT
END:VCALENDAR