BEGIN:VCALENDAR
VERSION:2.0
PRODID:concerti//https://www.concerti.de
CALSCALE:GREGORIAN
BEGIN:VTIMEZONE
TZID:Europe/Berlin
X-LIC-LOCATION:Europe/Berlin
BEGIN:DAYLIGHT
TZOFFSETFROM:+0100
TZOFFSETTO:+0200
TZNAME:CEST
DTSTART:19700329T020000
RRULE:FREQ=YEARLY;BYMONTH=3;BYDAY=-1SU
END:DAYLIGHT
BEGIN:STANDARD
TZOFFSETFROM:+0200
TZOFFSETTO:+0100
TZNAME:CET
DTSTART:19701025T030000
RRULE:FREQ=YEARLY;BYMONTH=10;BYDAY=-1SU
END:STANDARD
END:VTIMEZONE
BEGIN:VEVENT
UID:ff268912f2d21b063a475b607e95fb14
SUMMARY:Lyuta Kobayashi (Klarinette), Anhaltische Philharmonie Dessau, Vilmantas Kaliunas (Leitung)
URL:https://www.concerti.de/termine/lyuta-kobayashi-klarinette-anhaltische-philharmonie-dessau-vilmantas-kaliunas-leitung-anhaltisches-theater-788225/
DTSTART;TZID=Europe/Berlin:20260514T193000
DTEND;TZID=Europe/Berlin:20260514T213000
DESCRIPTION:Interpreten: Lyuta Kobayashi (Klarinette)\, Anhaltische Philharmonie Dessau\, Vilmantas Kaliunas (Leitung) \nProgramm: Čiurlionis: Miške\, Weber: Klarinettenkonzert Nr. 2 Es-Dur op. 74\, Schumann: Sinfonie Nr. 2 C-Dur op. 61 \nhttps://www.concerti.de/termine/lyuta-kobayashi-klarinette-anhaltische-philharmonie-dessau-vilmantas-kaliunas-leitung-anhaltisches-theater-788225/
LOCATION:Anhaltisches Theater Dessau-Roßlau\, Friedensplatz 1a\, 06844 Dessau-Roßlau
END:VEVENT
END:VCALENDAR