BEGIN:VCALENDAR
VERSION:2.0
PRODID:concerti//https://www.concerti.de
CALSCALE:GREGORIAN
BEGIN:VTIMEZONE
TZID:Europe/Berlin
X-LIC-LOCATION:Europe/Berlin
BEGIN:DAYLIGHT
TZOFFSETFROM:+0100
TZOFFSETTO:+0200
TZNAME:CEST
DTSTART:19700329T020000
RRULE:FREQ=YEARLY;BYMONTH=3;BYDAY=-1SU
END:DAYLIGHT
BEGIN:STANDARD
TZOFFSETFROM:+0200
TZOFFSETTO:+0100
TZNAME:CET
DTSTART:19701025T030000
RRULE:FREQ=YEARLY;BYMONTH=10;BYDAY=-1SU
END:STANDARD
END:VTIMEZONE
BEGIN:VEVENT
UID:95a9a6e320d1f96d69139de834885b83
SUMMARY:Freude im Frühling
URL:https://www.concerti.de/termine/freude-im-fruehling-konzerthaus-wien-787674/
DTSTART;TZID=Europe/Berlin:20260422T193000
DTEND;TZID=Europe/Berlin:20260422T213000
DESCRIPTION:Interpreten: SoRyang (Klavier) \nProgramm: Sinding: Frühlingsrauschen Des-Dur op. 32/3\, Mendelssohn: Lied ohne Worte A-Dur op. 62/6 „Frühlingslied“\, Grieg: An den Frühling op. 43/6 & Hochzeitstag auf Troldhaugen op. 65/6 aus „Lyrische Stücke“\, Liszt: Etude As-Dur „Waldesrauschen“ & Grand galop chromatique\, Beethoven: Sonate D-Dur op. 28 „Patorale“\, Schumann: Papillons op. 2 & Frühlingsnacht op. 39/12\, Chopin: Scherzo Nr. 3 cis-Moll op. 39 \nhttps://www.concerti.de/termine/freude-im-fruehling-konzerthaus-wien-787674/
LOCATION:Wiener Konzerthaus\, Lothringerstraße 20\, 1030 Wien
END:VEVENT
END:VCALENDAR