BEGIN:VCALENDAR
VERSION:2.0
PRODID:concerti//https://www.concerti.de
CALSCALE:GREGORIAN
BEGIN:VTIMEZONE
TZID:Europe/Berlin
X-LIC-LOCATION:Europe/Berlin
BEGIN:DAYLIGHT
TZOFFSETFROM:+0100
TZOFFSETTO:+0200
TZNAME:CEST
DTSTART:19700329T020000
RRULE:FREQ=YEARLY;BYMONTH=3;BYDAY=-1SU
END:DAYLIGHT
BEGIN:STANDARD
TZOFFSETFROM:+0200
TZOFFSETTO:+0100
TZNAME:CET
DTSTART:19701025T030000
RRULE:FREQ=YEARLY;BYMONTH=10;BYDAY=-1SU
END:STANDARD
END:VTIMEZONE
BEGIN:VEVENT
UID:889f25396af5a67d9ae227afafaac0a7
SUMMARY:Maximilian Kromer (Klavier), Markus Meyer (Rezitation) - Musik & Dichtung
URL:https://www.concerti.de/termine/maximilian-kromer-klavier-markus-meyer-rezitation-konzerthaus-wien-787668/
DTSTART;TZID=Europe/Berlin:20260422T123000
DTEND;TZID=Europe/Berlin:20260422T143000
DESCRIPTION:Interpreten: Maximilian Kromer (Klavier)\, Markus Meyer (Rezitation) \nProgramm: Prokofjew: Vier Stücke op. 4\, Liszt: Funérailles aus „Harmonies poétiques et religieuses“\, Lesung aus Mann: Buddenbrooks „Im Fall“ \nhttps://www.concerti.de/termine/maximilian-kromer-klavier-markus-meyer-rezitation-konzerthaus-wien-787668/
LOCATION:Wiener Konzerthaus\, Lothringerstraße 20\, 1030 Wien
END:VEVENT
END:VCALENDAR