BEGIN:VCALENDAR
VERSION:2.0
PRODID:concerti//https://www.concerti.de
CALSCALE:GREGORIAN
BEGIN:VTIMEZONE
TZID:Europe/Berlin
X-LIC-LOCATION:Europe/Berlin
BEGIN:DAYLIGHT
TZOFFSETFROM:+0100
TZOFFSETTO:+0200
TZNAME:CEST
DTSTART:19700329T020000
RRULE:FREQ=YEARLY;BYMONTH=3;BYDAY=-1SU
END:DAYLIGHT
BEGIN:STANDARD
TZOFFSETFROM:+0200
TZOFFSETTO:+0100
TZNAME:CET
DTSTART:19701025T030000
RRULE:FREQ=YEARLY;BYMONTH=10;BYDAY=-1SU
END:STANDARD
END:VTIMEZONE
BEGIN:VEVENT
UID:15d0c4312906106863c61eb3246152d0
SUMMARY:Einem: Der Besuch der alten Dame
URL:https://www.concerti.de/termine/einem-der-besuch-der-alten-dame-staatstheater-am-gaertnerplatz-787472/
DTSTART;TZID=Europe/Berlin:20260703T193000
DTEND;TZID=Europe/Berlin:20260703T213000
DESCRIPTION:Interpreten: Michael Balke (Leitung)\, Nikolaus Habjan (Regie) \nhttps://www.concerti.de/termine/einem-der-besuch-der-alten-dame-staatstheater-am-gaertnerplatz-787472/
LOCATION:Staatstheater am Gärtnerplatz München\, Gärtnerplatz 3\, 80469 München
END:VEVENT
END:VCALENDAR