BEGIN:VCALENDAR
VERSION:2.0
PRODID:concerti//https://www.concerti.de
CALSCALE:GREGORIAN
BEGIN:VTIMEZONE
TZID:Europe/Berlin
X-LIC-LOCATION:Europe/Berlin
BEGIN:DAYLIGHT
TZOFFSETFROM:+0100
TZOFFSETTO:+0200
TZNAME:CEST
DTSTART:19700329T020000
RRULE:FREQ=YEARLY;BYMONTH=3;BYDAY=-1SU
END:DAYLIGHT
BEGIN:STANDARD
TZOFFSETFROM:+0200
TZOFFSETTO:+0100
TZNAME:CET
DTSTART:19701025T030000
RRULE:FREQ=YEARLY;BYMONTH=10;BYDAY=-1SU
END:STANDARD
END:VTIMEZONE
BEGIN:VEVENT
UID:300e699452aac26fce80f4ab0cca83e0
SUMMARY:Magische Töne
URL:https://www.concerti.de/termine/magische-toene-beruehmte-melodien-aus-oesterreich-ungarn-philharmonie-essen-773526/
DTSTART;TZID=Europe/Berlin:20260428T200000
DTEND;TZID=Europe/Berlin:20260428T220000
DESCRIPTION:Interpreten: Malin Byström (Sopran)\, Jonas Kaufmann (Tenor)\, Philharmonie Baden-Baden\, Jochen Rieder (Leitung) \nProgramm: Werke von Kálmán\, Lehár\, Abraham u. a. \nhttps://www.concerti.de/termine/magische-toene-beruehmte-melodien-aus-oesterreich-ungarn-philharmonie-essen-773526/
LOCATION:Philharmonie Essen\, Huyssenallee 53\, 45128 Essen
END:VEVENT
END:VCALENDAR