BEGIN:VCALENDAR
VERSION:2.0
PRODID:concerti//https://www.concerti.de
CALSCALE:GREGORIAN
BEGIN:VTIMEZONE
TZID:Europe/Berlin
X-LIC-LOCATION:Europe/Berlin
BEGIN:DAYLIGHT
TZOFFSETFROM:+0100
TZOFFSETTO:+0200
TZNAME:CEST
DTSTART:19700329T020000
RRULE:FREQ=YEARLY;BYMONTH=3;BYDAY=-1SU
END:DAYLIGHT
BEGIN:STANDARD
TZOFFSETFROM:+0200
TZOFFSETTO:+0100
TZNAME:CET
DTSTART:19701025T030000
RRULE:FREQ=YEARLY;BYMONTH=10;BYDAY=-1SU
END:STANDARD
END:VTIMEZONE
BEGIN:VEVENT
UID:023fbca938168d2414dbf420f52ee79d
SUMMARY:Wagner: Parsifal
URL:https://www.concerti.de/termine/wagner-parsifal-aalto-musiktheater-490236/
DTSTART;TZID=Europe/Berlin:20260524T163000
DTEND;TZID=Europe/Berlin:20260524T183000
DESCRIPTION:Interpreten: Erik Nielsen (Leitung)\, Roland Schwab (Regie)\, Andrea Sanguineti/Erik Nielsen (Leitung)\, Roland Schwab (Regie) \nhttps://www.concerti.de/termine/wagner-parsifal-aalto-musiktheater-490236/
LOCATION:Aalto-Musiktheater Essen\, Opernplatz 10\, 45128 Essen
END:VEVENT
END:VCALENDAR