BEGIN:VCALENDAR
VERSION:2.0
PRODID:concerti//https://www.concerti.de
CALSCALE:GREGORIAN
BEGIN:VTIMEZONE
TZID:Europe/Berlin
X-LIC-LOCATION:Europe/Berlin
BEGIN:DAYLIGHT
TZOFFSETFROM:+0100
TZOFFSETTO:+0200
TZNAME:CEST
DTSTART:19700329T020000
RRULE:FREQ=YEARLY;BYMONTH=3;BYDAY=-1SU
END:DAYLIGHT
BEGIN:STANDARD
TZOFFSETFROM:+0200
TZOFFSETTO:+0100
TZNAME:CET
DTSTART:19701025T030000
RRULE:FREQ=YEARLY;BYMONTH=10;BYDAY=-1SU
END:STANDARD
END:VTIMEZONE
BEGIN:VEVENT
UID:5b6d6f56e3fb95f361436be6f72d6ab2
SUMMARY:Abraham: Märchen im Grand-Hotel
URL:https://www.concerti.de/termine/abraham-maerchen-im-grand-hotel-theater-dortmund-770381/
DTSTART;TZID=Europe/Berlin:20260510T180000
DTEND;TZID=Europe/Berlin:20260510T200000
DESCRIPTION:Interpreten: Koji Ishizaka/Carlos Vázquez (Leitung)\, Jörn-Felix Alt (Regie) \nhttps://www.concerti.de/termine/abraham-maerchen-im-grand-hotel-theater-dortmund-770381/
LOCATION:Theater Dortmund\, Theaterkarree 1-3\, 44137 Dortmund
END:VEVENT
END:VCALENDAR