BEGIN:VCALENDAR
VERSION:2.0
PRODID:concerti//https://www.concerti.de
CALSCALE:GREGORIAN
BEGIN:VTIMEZONE
TZID:Europe/Berlin
X-LIC-LOCATION:Europe/Berlin
BEGIN:DAYLIGHT
TZOFFSETFROM:+0100
TZOFFSETTO:+0200
TZNAME:CEST
DTSTART:19700329T020000
RRULE:FREQ=YEARLY;BYMONTH=3;BYDAY=-1SU
END:DAYLIGHT
BEGIN:STANDARD
TZOFFSETFROM:+0200
TZOFFSETTO:+0100
TZNAME:CET
DTSTART:19701025T030000
RRULE:FREQ=YEARLY;BYMONTH=10;BYDAY=-1SU
END:STANDARD
END:VTIMEZONE
BEGIN:VEVENT
UID:97d6a879d643c076411182646e379009
SUMMARY:99. Geburtstag von Herbert Blomstedt
URL:https://www.concerti.de/termine/99-geburtstag-von-herbert-blomstedt-konzerthalle-bamberg-766063/
DTSTART;TZID=Europe/Berlin:20260718T200000
DTEND;TZID=Europe/Berlin:20260718T220000
DESCRIPTION:Interpreten: Bamberger Symphoniker\, Herbert Blomstedt (Leitung) \nhttps://www.concerti.de/termine/99-geburtstag-von-herbert-blomstedt-konzerthalle-bamberg-766063/
LOCATION:Konzerthalle Bamberg\, Mußstraße 1\, 96047 Bamberg
END:VEVENT
END:VCALENDAR