BEGIN:VCALENDAR
VERSION:2.0
PRODID:concerti//https://www.concerti.de
CALSCALE:GREGORIAN
BEGIN:VTIMEZONE
TZID:Europe/Berlin
X-LIC-LOCATION:Europe/Berlin
BEGIN:DAYLIGHT
TZOFFSETFROM:+0100
TZOFFSETTO:+0200
TZNAME:CEST
DTSTART:19700329T020000
RRULE:FREQ=YEARLY;BYMONTH=3;BYDAY=-1SU
END:DAYLIGHT
BEGIN:STANDARD
TZOFFSETFROM:+0200
TZOFFSETTO:+0100
TZNAME:CET
DTSTART:19701025T030000
RRULE:FREQ=YEARLY;BYMONTH=10;BYDAY=-1SU
END:STANDARD
END:VTIMEZONE
BEGIN:VEVENT
UID:797af787e055977c9b1ef100340f4a01
SUMMARY:Fola Dada (vocals), Götz Alsmann (vocals &amp; piano), SWR Big Band
URL:https://www.concerti.de/termine/fola-dada-vocals-goetz-alsmann-vocals-piano-swr-big-band-prinzregententheater-763870/
DTSTART;TZID=Europe/Berlin:20260521T200000
DTEND;TZID=Europe/Berlin:20260521T220000
DESCRIPTION:Interpreten: Fola Dada (vocals)\, Götz Alsmann (vocals & piano)\, SWR Big Band \nhttps://www.concerti.de/termine/fola-dada-vocals-goetz-alsmann-vocals-piano-swr-big-band-prinzregententheater-763870/
LOCATION:Prinzregententheater München\, Prinzregentenplatz 12\, 81675 München
END:VEVENT
END:VCALENDAR