BEGIN:VCALENDAR
VERSION:2.0
PRODID:concerti//https://www.concerti.de
CALSCALE:GREGORIAN
BEGIN:VTIMEZONE
TZID:Europe/Berlin
X-LIC-LOCATION:Europe/Berlin
BEGIN:DAYLIGHT
TZOFFSETFROM:+0100
TZOFFSETTO:+0200
TZNAME:CEST
DTSTART:19700329T020000
RRULE:FREQ=YEARLY;BYMONTH=3;BYDAY=-1SU
END:DAYLIGHT
BEGIN:STANDARD
TZOFFSETFROM:+0200
TZOFFSETTO:+0100
TZNAME:CET
DTSTART:19701025T030000
RRULE:FREQ=YEARLY;BYMONTH=10;BYDAY=-1SU
END:STANDARD
END:VTIMEZONE
BEGIN:VEVENT
UID:1cc57e5afd6688c2dab37d001603ec3b
SUMMARY:J. S. Bach: Weihnachtsoratorium BWV 248 (Kantaten IV-VI)
URL:https://www.concerti.de/termine/j-s-bach-weihnachtsoratorium-bwv-248-teile-iv-vi-lambertikirche-oldenburg-760555/
DTSTART;TZID=Europe/Berlin:20261213T180000
DTEND;TZID=Europe/Berlin:20261213T200000
DESCRIPTION:Interpreten: Wiebke Lehmkuhl (Alt)\, Florian Sievers (Tenor)\, Lambertichor Oldenburg\, La dolcezza\, Tobias Götting (Leitung) \nhttps://www.concerti.de/termine/j-s-bach-weihnachtsoratorium-bwv-248-teile-iv-vi-lambertikirche-oldenburg-760555/
LOCATION:Lambertikirche Oldenburg\, Markt 17\, 26122 Oldenburg
END:VEVENT
END:VCALENDAR