BEGIN:VCALENDAR
VERSION:2.0
PRODID:concerti//https://www.concerti.de
CALSCALE:GREGORIAN
BEGIN:VTIMEZONE
TZID:Europe/Berlin
X-LIC-LOCATION:Europe/Berlin
BEGIN:DAYLIGHT
TZOFFSETFROM:+0100
TZOFFSETTO:+0200
TZNAME:CEST
DTSTART:19700329T020000
RRULE:FREQ=YEARLY;BYMONTH=3;BYDAY=-1SU
END:DAYLIGHT
BEGIN:STANDARD
TZOFFSETFROM:+0200
TZOFFSETTO:+0100
TZNAME:CET
DTSTART:19701025T030000
RRULE:FREQ=YEARLY;BYMONTH=10;BYDAY=-1SU
END:STANDARD
END:VTIMEZONE
BEGIN:VEVENT
UID:c41cdd16dcc0afc0bc6f640122c2f4fd
SUMMARY:Siobhan Stagg (Sopran), Sächsische Staatskapelle Dresden, Elim Chan (Leitung)
URL:https://www.concerti.de/termine/siobhan-stagg-sopran-saechsische-staatskapelle-dresden-elim-chan-leitung-semperoper-758847/
DTSTART;TZID=Europe/Berlin:20260705T110000
DTEND;TZID=Europe/Berlin:20260705T130000
DESCRIPTION:Interpreten: Siobhan Stagg (Sopran)\, Sächsische Staatskapelle Dresden\, Elim Chan (Leitung) \nProgramm: Dukas: Der Zauberlehrling\, Chin: Puzzles and Games aus „Alice in Wonderland”\, Prokofjew: Romeo und Julia (Auszüge) \nhttps://www.concerti.de/termine/siobhan-stagg-sopran-saechsische-staatskapelle-dresden-elim-chan-leitung-semperoper-758847/
LOCATION:Semperoper\, Theaterplatz 2\, 01067 Dresden
END:VEVENT
END:VCALENDAR