BEGIN:VCALENDAR
VERSION:2.0
PRODID:concerti//https://www.concerti.de
CALSCALE:GREGORIAN
BEGIN:VTIMEZONE
TZID:Europe/Berlin
X-LIC-LOCATION:Europe/Berlin
BEGIN:DAYLIGHT
TZOFFSETFROM:+0100
TZOFFSETTO:+0200
TZNAME:CEST
DTSTART:19700329T020000
RRULE:FREQ=YEARLY;BYMONTH=3;BYDAY=-1SU
END:DAYLIGHT
BEGIN:STANDARD
TZOFFSETFROM:+0200
TZOFFSETTO:+0100
TZNAME:CET
DTSTART:19701025T030000
RRULE:FREQ=YEARLY;BYMONTH=10;BYDAY=-1SU
END:STANDARD
END:VTIMEZONE
BEGIN:VEVENT
UID:ada4afb7ab8de7b4c651cb777fef85df
SUMMARY:Augustin Hadelich (Violine), Sächsische Staatskapelle Dresden, Marie Jacquot (Leitung)
URL:https://www.concerti.de/termine/augustin-hadelich-violine-saechsische-staatskapelle-dresden-marie-jacquot-leitung-semperoper-758841/
DTSTART;TZID=Europe/Berlin:20260615T190000
DTEND;TZID=Europe/Berlin:20260615T210000
DESCRIPTION:Kurz nach seiner Emigration in die USA verfasste Béla Bartók im Auftrag des Bostoner Musikdirektors Sergei Kussewizki sein „Konzert für Orchester“. Das zugängliche und ironische Spätwerk avancierte rasch zu einem Publikumsliebling. Marie Jacquot dirigiert es bei der Staatskapelle Dresden. Augustin Hadelich spielt zudem Beethovens Violinkonzert. \nInterpreten: Augustin Hadelich (Violine)\, Sächsische Staatskapelle Dresden\, Marie Jacquot (Leitung) \nProgramm: Beethoven: Violinkonzert D-Dur op. 61\, Bartók: Konzert für Orchester \nhttps://www.concerti.de/termine/augustin-hadelich-violine-saechsische-staatskapelle-dresden-marie-jacquot-leitung-semperoper-758841/
LOCATION:Semperoper\, Theaterplatz 2\, 01067 Dresden
END:VEVENT
END:VCALENDAR