BEGIN:VCALENDAR
VERSION:2.0
PRODID:concerti//https://www.concerti.de
CALSCALE:GREGORIAN
BEGIN:VTIMEZONE
TZID:Europe/Berlin
X-LIC-LOCATION:Europe/Berlin
BEGIN:DAYLIGHT
TZOFFSETFROM:+0100
TZOFFSETTO:+0200
TZNAME:CEST
DTSTART:19700329T020000
RRULE:FREQ=YEARLY;BYMONTH=3;BYDAY=-1SU
END:DAYLIGHT
BEGIN:STANDARD
TZOFFSETFROM:+0200
TZOFFSETTO:+0100
TZNAME:CET
DTSTART:19701025T030000
RRULE:FREQ=YEARLY;BYMONTH=10;BYDAY=-1SU
END:STANDARD
END:VTIMEZONE
BEGIN:VEVENT
UID:41ca8466e32be0260f1dfaee63638ec2
SUMMARY:Lieben Sie Brahms?
URL:https://www.concerti.de/termine/lieben-sie-brahms-badisches-staatstheater-756375/
DTSTART;TZID=Europe/Berlin:20260711T190000
DTEND;TZID=Europe/Berlin:20260711T210000
DESCRIPTION:Interpreten: Gerhard Oppitz (Klavier)\, Badische Staatskapelle\, Georg Fritzsch (Leitung) \nProgramm: Brahms: Klavierkonzerte Nr. 1 d-Moll op. 15 & Nr. 2 B-Dur op. 83 \nhttps://www.concerti.de/termine/lieben-sie-brahms-badisches-staatstheater-756375/
LOCATION:Badisches Staatstheater Karlsruhe\, Hermann-Levi-Platz 1\, 76137 Karlsruhe
END:VEVENT
END:VCALENDAR