BEGIN:VCALENDAR
VERSION:2.0
PRODID:concerti//https://www.concerti.de
CALSCALE:GREGORIAN
BEGIN:VTIMEZONE
TZID:Europe/Berlin
X-LIC-LOCATION:Europe/Berlin
BEGIN:DAYLIGHT
TZOFFSETFROM:+0100
TZOFFSETTO:+0200
TZNAME:CEST
DTSTART:19700329T020000
RRULE:FREQ=YEARLY;BYMONTH=3;BYDAY=-1SU
END:DAYLIGHT
BEGIN:STANDARD
TZOFFSETFROM:+0200
TZOFFSETTO:+0100
TZNAME:CET
DTSTART:19701025T030000
RRULE:FREQ=YEARLY;BYMONTH=10;BYDAY=-1SU
END:STANDARD
END:VTIMEZONE
BEGIN:VEVENT
UID:e665ea6a7f7ec3891786ff0688ab1046
SUMMARY:Claire Huangci (Klavier), Badische Staatskapelle, Georg Fritzsch (Leitung)
URL:https://www.concerti.de/termine/claire-huangci-klavier-badische-staatskapelle-georg-fritzsch-leitung-badisches-staatstheater-756364/
DTSTART;TZID=Europe/Berlin:20260706T193000
DTEND;TZID=Europe/Berlin:20260706T213000
DESCRIPTION:Interpreten: Claire Huangci (Klavier)\, Badische Staatskapelle\, Georg Fritzsch (Leitung) \nProgramm: Stenhammar: Klavierkonzert Nr. 2 d-Moll op. 23\, Brahms: Akademische Festouvertüre c-Moll op. 80 & Sinfonie Nr. 1 c-Moll op. 68 \nhttps://www.concerti.de/termine/claire-huangci-klavier-badische-staatskapelle-georg-fritzsch-leitung-badisches-staatstheater-756364/
LOCATION:Badisches Staatstheater Karlsruhe\, Hermann-Levi-Platz 1\, 76137 Karlsruhe
END:VEVENT
END:VCALENDAR