BEGIN:VCALENDAR
VERSION:2.0
PRODID:concerti//https://www.concerti.de
CALSCALE:GREGORIAN
BEGIN:VTIMEZONE
TZID:Europe/Berlin
X-LIC-LOCATION:Europe/Berlin
BEGIN:DAYLIGHT
TZOFFSETFROM:+0100
TZOFFSETTO:+0200
TZNAME:CEST
DTSTART:19700329T020000
RRULE:FREQ=YEARLY;BYMONTH=3;BYDAY=-1SU
END:DAYLIGHT
BEGIN:STANDARD
TZOFFSETFROM:+0200
TZOFFSETTO:+0100
TZNAME:CET
DTSTART:19701025T030000
RRULE:FREQ=YEARLY;BYMONTH=10;BYDAY=-1SU
END:STANDARD
END:VTIMEZONE
BEGIN:VEVENT
UID:4b6451a16712d078f0ef542fc950fe50
SUMMARY:Brooks: The Producers
URL:https://www.concerti.de/termine/brooks-the-producers-musikalische-komoedie-232318/
DTSTART;TZID=Europe/Berlin:20260628T150000
DTEND;TZID=Europe/Berlin:20260628T170000
DESCRIPTION:Das schlechteste Kunstwerk der Welt zu fabrizieren ist ein schwieriges Unterfangen. Gelingt es vortrefflich\, erlangt es erst Aufmerksamkeit\, dann Kultstatus und wird schlussendlich mit den geflügelten Worten „so schlecht\, dass es schon wieder gut ist“ geadelt. Und vorbei ist es mit der Schlechtigkeit\, zumindest mit der authentischen Schlechtigkeit. In Mel Brooks’ Musical „The Producers“ versuchen sich zwei gescheiterte Broadwaygrößen an genau diesem Vorhaben. Ihr Plan: Geld für die Produktion auftreiben\, hoffen\, dass das Stück schnellstmöglich wieder abgesetzt wird und dann türmen. Womit das gelingen s0ll: mit der Hommage eines Altnazis an Adolf Hitler. Keine gute Idee. Oder? (MT) \nInterpreten: Michael Nündel (Leitung)\, Dominik Wilgenbus (Regie) \nhttps://www.concerti.de/termine/brooks-the-producers-musikalische-komoedie-232318/
LOCATION:Musikalische Komödie Leipzig\, Dreilindenstraße 30\, 04177 Leipzig
END:VEVENT
END:VCALENDAR