BEGIN:VCALENDAR
VERSION:2.0
PRODID:concerti//https://www.concerti.de
CALSCALE:GREGORIAN
BEGIN:VTIMEZONE
TZID:Europe/Berlin
X-LIC-LOCATION:Europe/Berlin
BEGIN:DAYLIGHT
TZOFFSETFROM:+0100
TZOFFSETTO:+0200
TZNAME:CEST
DTSTART:19700329T020000
RRULE:FREQ=YEARLY;BYMONTH=3;BYDAY=-1SU
END:DAYLIGHT
BEGIN:STANDARD
TZOFFSETFROM:+0200
TZOFFSETTO:+0100
TZNAME:CET
DTSTART:19701025T030000
RRULE:FREQ=YEARLY;BYMONTH=10;BYDAY=-1SU
END:STANDARD
END:VTIMEZONE
BEGIN:VEVENT
UID:4df9e758f29fcde4ce847841fc873d6b
SUMMARY:Himmlische Harmonien
URL:https://www.concerti.de/termine/himmlische-harmonien-738218/
DTSTART;TZID=Europe/Berlin:20260815T193000
DTEND;TZID=Europe/Berlin:20260815T213000
DESCRIPTION:Interpreten: Collegium Vocale Salzburg & seine Solisten\, Salzburger Barockensemble\, Michael Schneider (Leitung) \nProgramm: Werke von Holzinger\, Gatti\, J. M. Haydn\, Adlgasser\, Keller & Danzi \nhttps://www.concerti.de/termine/himmlische-harmonien-738218/
LOCATION:Pfarrkirche Mülln\, Salzburg
END:VEVENT
END:VCALENDAR