BEGIN:VCALENDAR
VERSION:2.0
PRODID:concerti//https://www.concerti.de
CALSCALE:GREGORIAN
BEGIN:VTIMEZONE
TZID:Europe/Berlin
X-LIC-LOCATION:Europe/Berlin
BEGIN:DAYLIGHT
TZOFFSETFROM:+0100
TZOFFSETTO:+0200
TZNAME:CEST
DTSTART:19700329T020000
RRULE:FREQ=YEARLY;BYMONTH=3;BYDAY=-1SU
END:DAYLIGHT
BEGIN:STANDARD
TZOFFSETFROM:+0200
TZOFFSETTO:+0100
TZNAME:CET
DTSTART:19701025T030000
RRULE:FREQ=YEARLY;BYMONTH=10;BYDAY=-1SU
END:STANDARD
END:VTIMEZONE
BEGIN:VEVENT
UID:07f60efdfaaa0d4cbda310458f5229c7
SUMMARY:Nikolai Lugansky (Klavier), Sebastian Heindl (Orgel), Deutsches Symphonie-Orchester Berlin, Stéphane Denève (Leitung)
URL:https://www.concerti.de/termine/nikolai-lugansky-klavier-sebastian-heindl-orgel-deutsches-symphonie-orchester-berlin-stephane-deneve-leitung-philharmonie-berlin-732084/
DTSTART;TZID=Europe/Berlin:20260517T200000
DTEND;TZID=Europe/Berlin:20260517T220000
DESCRIPTION:Interpreten: Nikolai Lugansky (Klavier)\, Sebastian Heindl (Orgel)\, Deutsches Symphonie-Orchester Berlin\, Stéphane Denève (Leitung) \nProgramm: Moussa: A Globe Itself Infolding\, Prokofjew: Klavierkonzert Nr. 2 g-Moll\, Saint-Saëns: Sinfonie Nr. 3 c-Moll „Orgelsinfonie“ \nhttps://www.concerti.de/termine/nikolai-lugansky-klavier-sebastian-heindl-orgel-deutsches-symphonie-orchester-berlin-stephane-deneve-leitung-philharmonie-berlin-732084/
LOCATION:Philharmonie Berlin\, Herbert-von-Karajan-Straße 1\, 10785 Berlin
END:VEVENT
END:VCALENDAR