BEGIN:VCALENDAR
VERSION:2.0
PRODID:concerti//https://www.concerti.de
CALSCALE:GREGORIAN
BEGIN:VTIMEZONE
TZID:Europe/Berlin
X-LIC-LOCATION:Europe/Berlin
BEGIN:DAYLIGHT
TZOFFSETFROM:+0100
TZOFFSETTO:+0200
TZNAME:CEST
DTSTART:19700329T020000
RRULE:FREQ=YEARLY;BYMONTH=3;BYDAY=-1SU
END:DAYLIGHT
BEGIN:STANDARD
TZOFFSETFROM:+0200
TZOFFSETTO:+0100
TZNAME:CET
DTSTART:19701025T030000
RRULE:FREQ=YEARLY;BYMONTH=10;BYDAY=-1SU
END:STANDARD
END:VTIMEZONE
BEGIN:VEVENT
UID:7bd27a1252258d1935bc3c097d3a32a8
SUMMARY:Sarah Wegener (Sopran), Klaus Florian Vogt (Tenor), Vitalij Kowaljow (Bass), Gewandhausorchester, Andris Nelsons (Leitung)
URL:https://www.concerti.de/termine/klaus-florian-vogt-tenor-sarah-wegener-sopran-vitalij-kowaljow-bass-gewandhausorchester-andris-nelsons-leitung-gewandhaus-leipzig-731607/
DTSTART;TZID=Europe/Berlin:20260424T193000
DTEND;TZID=Europe/Berlin:20260424T213000
DESCRIPTION:Interpreten: Sarah Wegener (Sopran)\, Klaus Florian Vogt (Tenor)\, Vitalij Kowaljow (Bass)\, Gewandhausorchester\, Andris Nelsons (Leitung) \nProgramm: Schumann: Sinfonie Nr. 1 B-Dur op. 38\, Wagner: Erster Akt aus „Die Walküre“ \nhttps://www.concerti.de/termine/klaus-florian-vogt-tenor-sarah-wegener-sopran-vitalij-kowaljow-bass-gewandhausorchester-andris-nelsons-leitung-gewandhaus-leipzig-731607/
LOCATION:Gewandhaus Leipzig\, Augustusplatz 8\, 04109 Leipzig
END:VEVENT
END:VCALENDAR