BEGIN:VCALENDAR
VERSION:2.0
PRODID:concerti//https://www.concerti.de
CALSCALE:GREGORIAN
BEGIN:VTIMEZONE
TZID:Europe/Berlin
X-LIC-LOCATION:Europe/Berlin
BEGIN:DAYLIGHT
TZOFFSETFROM:+0100
TZOFFSETTO:+0200
TZNAME:CEST
DTSTART:19700329T020000
RRULE:FREQ=YEARLY;BYMONTH=3;BYDAY=-1SU
END:DAYLIGHT
BEGIN:STANDARD
TZOFFSETFROM:+0200
TZOFFSETTO:+0100
TZNAME:CET
DTSTART:19701025T030000
RRULE:FREQ=YEARLY;BYMONTH=10;BYDAY=-1SU
END:STANDARD
END:VTIMEZONE
BEGIN:VEVENT
UID:a9f1f0a36962368db902dfcd554c22b4
SUMMARY:Åslund: Madita
URL:https://www.concerti.de/termine/aaslund-madita-landestheater-linz-728892/
DTSTART;TZID=Europe/Berlin:20260611T193000
DTEND;TZID=Europe/Berlin:20260611T213000
DESCRIPTION:Interpreten: Georgia Cooper (Madita)\, Antonia Beteag (Lisabet)\, Martin Achrainer (Papa)\, Angela Simkin (Alva)\, Dora Blatniczki (Mia)\, Alexandre Bianque (Abbe)\, Hun Jeong (Schornsteinfeger)\, Gotho Griesmeier (Lehrerin)\, Viktor Åslund/Ingmar Back (Leitung)\, Gregor Horres (Regie) \nhttps://www.concerti.de/termine/aaslund-madita-landestheater-linz-728892/
LOCATION:Landestheater Linz Musiktheater\, Am Volksgarten 1\, 4020 Linz
END:VEVENT
END:VCALENDAR