BEGIN:VCALENDAR
VERSION:2.0
PRODID:concerti//https://www.concerti.de
CALSCALE:GREGORIAN
BEGIN:VTIMEZONE
TZID:Europe/Berlin
X-LIC-LOCATION:Europe/Berlin
BEGIN:DAYLIGHT
TZOFFSETFROM:+0100
TZOFFSETTO:+0200
TZNAME:CEST
DTSTART:19700329T020000
RRULE:FREQ=YEARLY;BYMONTH=3;BYDAY=-1SU
END:DAYLIGHT
BEGIN:STANDARD
TZOFFSETFROM:+0200
TZOFFSETTO:+0100
TZNAME:CET
DTSTART:19701025T030000
RRULE:FREQ=YEARLY;BYMONTH=10;BYDAY=-1SU
END:STANDARD
END:VTIMEZONE
BEGIN:VEVENT
UID:ffc528ecad10a7fca5043a88a2e424c4
SUMMARY:Amor &amp; Psyche?
URL:https://www.concerti.de/termine/amor-psyche-landestheater-linz-728951/
DTSTART;TZID=Europe/Berlin:20260423T193000
DTEND;TZID=Europe/Berlin:20260423T213000
DESCRIPTION:Interpreten: Bruckner Orchester Linz\, Ingmar Beck (Leitung)\, Jeroen Verbruggen (Choreografie) \nProgramm: Musik von Voss\, Lopez\, Ades\, Fauré\, Ravel\, Vaughan Williams\, Protopsalti & Ives \nhttps://www.concerti.de/termine/amor-psyche-landestheater-linz-728951/
LOCATION:Landestheater Linz Musiktheater\, Am Volksgarten 1\, 4020 Linz
END:VEVENT
END:VCALENDAR