BEGIN:VCALENDAR
VERSION:2.0
PRODID:concerti//https://www.concerti.de
CALSCALE:GREGORIAN
BEGIN:VTIMEZONE
TZID:Europe/Berlin
X-LIC-LOCATION:Europe/Berlin
BEGIN:DAYLIGHT
TZOFFSETFROM:+0100
TZOFFSETTO:+0200
TZNAME:CEST
DTSTART:19700329T020000
RRULE:FREQ=YEARLY;BYMONTH=3;BYDAY=-1SU
END:DAYLIGHT
BEGIN:STANDARD
TZOFFSETFROM:+0200
TZOFFSETTO:+0100
TZNAME:CET
DTSTART:19701025T030000
RRULE:FREQ=YEARLY;BYMONTH=10;BYDAY=-1SU
END:STANDARD
END:VTIMEZONE
BEGIN:VEVENT
UID:c85e3216983c21d077e9511d24748df2
SUMMARY:Verwandlungen
URL:https://www.concerti.de/termine/verwandlungen-staatsoper-hannover-724010/
DTSTART;TZID=Europe/Berlin:20260524T183000
DTEND;TZID=Europe/Berlin:20260524T203000
DESCRIPTION:Interpreten: Imre van Opstal (Choreografie)\, Marne van Opstal (Choreografie)\, Seol León (Choreografie)\, Paul Lightfoot (Choreografie) \nProgramm: Musik von Richter\, The Magnetic Fields u. a. \nhttps://www.concerti.de/termine/verwandlungen-staatsoper-hannover-724010/
LOCATION:Staatsoper Hannover\, Opernplatz 1\, 30159 Hannover
END:VEVENT
END:VCALENDAR