BEGIN:VCALENDAR
VERSION:2.0
PRODID:concerti//https://www.concerti.de
CALSCALE:GREGORIAN
BEGIN:VTIMEZONE
TZID:Europe/Berlin
X-LIC-LOCATION:Europe/Berlin
BEGIN:DAYLIGHT
TZOFFSETFROM:+0100
TZOFFSETTO:+0200
TZNAME:CEST
DTSTART:19700329T020000
RRULE:FREQ=YEARLY;BYMONTH=3;BYDAY=-1SU
END:DAYLIGHT
BEGIN:STANDARD
TZOFFSETFROM:+0200
TZOFFSETTO:+0100
TZNAME:CET
DTSTART:19701025T030000
RRULE:FREQ=YEARLY;BYMONTH=10;BYDAY=-1SU
END:STANDARD
END:VTIMEZONE
BEGIN:VEVENT
UID:96d45e3106a733192b7fc00bcb8dd356
SUMMARY:Rossini: Der Barbier von Sevilla
URL:https://www.concerti.de/termine/rossini-der-barbier-von-sevilla-staatsoper-hannover-726358/
DTSTART;TZID=Europe/Berlin:20260522T193000
DTEND;TZID=Europe/Berlin:20260522T213000
DESCRIPTION:Interpreten: SeungJick Kim (Graf Almaviva)\, Matteo Guerzè (Figaro)\, Frank Schneiders (Doktor Bartolo)\, Beatriz Miranda (Rosina)\, Yannick Spanier (Don Basilio)\, Stephan Zilias (Leitung)\, Nicola Hümpel (Regie)\, SeungJick Kim (Graf Almaviva)\, Matteo Guerzè (Figaro)\, Frank Schneiders (Doktor Bartolo)\, Beatriz Miranda (Rosina)\, Serhii Moskalchuk (Don Basilio)\, Stephan Zilias (Leitung)\, Nicola Hümpel (Regie)\, SeungJick Kim (Graf Almaviva)\, Matteo Guerzè (Figaro)\, Frank Schneiders (Doktor Bartolo)\, Beatriz Miranda (Rosina)\, Yannick Spanier (Don Basilio)\, Piotr Jaworski (Leitung)\, Nicola Hümpel (Regie) \nhttps://www.concerti.de/termine/rossini-der-barbier-von-sevilla-staatsoper-hannover-726358/
LOCATION:Staatsoper Hannover\, Opernplatz 1\, 30159 Hannover
END:VEVENT
END:VCALENDAR