BEGIN:VCALENDAR
VERSION:2.0
PRODID:concerti//https://www.concerti.de
CALSCALE:GREGORIAN
BEGIN:VTIMEZONE
TZID:Europe/Berlin
X-LIC-LOCATION:Europe/Berlin
BEGIN:DAYLIGHT
TZOFFSETFROM:+0100
TZOFFSETTO:+0200
TZNAME:CEST
DTSTART:19700329T020000
RRULE:FREQ=YEARLY;BYMONTH=3;BYDAY=-1SU
END:DAYLIGHT
BEGIN:STANDARD
TZOFFSETFROM:+0200
TZOFFSETTO:+0100
TZNAME:CET
DTSTART:19701025T030000
RRULE:FREQ=YEARLY;BYMONTH=10;BYDAY=-1SU
END:STANDARD
END:VTIMEZONE
BEGIN:VEVENT
UID:f9fb4130a782e314de75cbdc70b50df3
SUMMARY:Massenet: Werther
URL:https://www.concerti.de/termine/massenet-werther-opernhaus-zuerich-725102/
DTSTART;TZID=Europe/Berlin:20260704T193000
DTEND;TZID=Europe/Berlin:20260704T213000
DESCRIPTION:Interpreten: Jonathan Tetelman (Werther)\, Anna Goryachova (Charlotte)\, Chelsea Zurflüh (Sophie)\, Aksel Daveyan (Albert)\, Valeriy Murga (Le Bailli)\, Martin Zysset (Schmidt)\, Evan Gray (Johann)\, Lobel Barun (Brühlmann)\, \nMarco Armiliato (Leitung)\, Tatjana Gürbaca (Regie) \nhttps://www.concerti.de/termine/massenet-werther-opernhaus-zuerich-725102/
LOCATION:Opernhaus Zürich\, Falkenstrasse 1\, 8008 Zürich
END:VEVENT
END:VCALENDAR