BEGIN:VCALENDAR
VERSION:2.0
PRODID:concerti//https://www.concerti.de
CALSCALE:GREGORIAN
BEGIN:VTIMEZONE
TZID:Europe/Berlin
X-LIC-LOCATION:Europe/Berlin
BEGIN:DAYLIGHT
TZOFFSETFROM:+0100
TZOFFSETTO:+0200
TZNAME:CEST
DTSTART:19700329T020000
RRULE:FREQ=YEARLY;BYMONTH=3;BYDAY=-1SU
END:DAYLIGHT
BEGIN:STANDARD
TZOFFSETFROM:+0200
TZOFFSETTO:+0100
TZNAME:CET
DTSTART:19701025T030000
RRULE:FREQ=YEARLY;BYMONTH=10;BYDAY=-1SU
END:STANDARD
END:VTIMEZONE
BEGIN:VEVENT
UID:800c34b9f29ce690c1e179914319cde5
SUMMARY:Iveta Apkalna (Orgel)
URL:https://www.concerti.de/termine/iveta-apkalna-orgel-philharmonie-mercatorhalle-723296/
DTSTART;TZID=Europe/Berlin:20260530T160000
DTEND;TZID=Europe/Berlin:20260530T180000
DESCRIPTION:Interpreten: Iveta Apkalna (Orgel) \nProgramm: Werke von J. S. Bach\, Vasks & Pärt \nhttps://www.concerti.de/termine/iveta-apkalna-orgel-philharmonie-mercatorhalle-723296/
LOCATION:Philharmonie Mercatorhalle\, Landfermannstraße 6\, 47051 Duisburg
END:VEVENT
END:VCALENDAR