BEGIN:VCALENDAR
VERSION:2.0
PRODID:concerti//https://www.concerti.de
CALSCALE:GREGORIAN
BEGIN:VTIMEZONE
TZID:Europe/Berlin
X-LIC-LOCATION:Europe/Berlin
BEGIN:DAYLIGHT
TZOFFSETFROM:+0100
TZOFFSETTO:+0200
TZNAME:CEST
DTSTART:19700329T020000
RRULE:FREQ=YEARLY;BYMONTH=3;BYDAY=-1SU
END:DAYLIGHT
BEGIN:STANDARD
TZOFFSETFROM:+0200
TZOFFSETTO:+0100
TZNAME:CET
DTSTART:19701025T030000
RRULE:FREQ=YEARLY;BYMONTH=10;BYDAY=-1SU
END:STANDARD
END:VTIMEZONE
BEGIN:VEVENT
UID:b68475d330677a2a9fba7fe638e32b71
SUMMARY:Kamalini Mukherji (Gesang), Avi Avital (Mandoline), Swarendu Mondal (Sarod), Sanjib Pal (Tabla), Aris Quartett - Festival Eigenzeit
URL:https://www.concerti.de/termine/kamalini-mukherji-gesang-avi-avital-mandoline-swarendu-mondal-sarod-philharmonie-mercatorhalle-723293/
DTSTART;TZID=Europe/Berlin:20260522T193000
DTEND;TZID=Europe/Berlin:20260522T213000
DESCRIPTION:Interpreten: Kamalini Mukherji (Gesang)\, Avi Avital (Mandoline)\, Swarendu Mondal (Sarod)\, Sanjib Pal (Tabla)\, Aris Quartett \nProgramm: Bruce: Cymbeline\, Tagore: Lieder u. a. \nhttps://www.concerti.de/termine/kamalini-mukherji-gesang-avi-avital-mandoline-swarendu-mondal-sarod-philharmonie-mercatorhalle-723293/
LOCATION:Philharmonie Mercatorhalle\, Landfermannstraße 6\, 47051 Duisburg
END:VEVENT
END:VCALENDAR