BEGIN:VCALENDAR
VERSION:2.0
PRODID:concerti//https://www.concerti.de
CALSCALE:GREGORIAN
BEGIN:VTIMEZONE
TZID:Europe/Berlin
X-LIC-LOCATION:Europe/Berlin
BEGIN:DAYLIGHT
TZOFFSETFROM:+0100
TZOFFSETTO:+0200
TZNAME:CEST
DTSTART:19700329T020000
RRULE:FREQ=YEARLY;BYMONTH=3;BYDAY=-1SU
END:DAYLIGHT
BEGIN:STANDARD
TZOFFSETFROM:+0200
TZOFFSETTO:+0100
TZNAME:CET
DTSTART:19701025T030000
RRULE:FREQ=YEARLY;BYMONTH=10;BYDAY=-1SU
END:STANDARD
END:VTIMEZONE
BEGIN:VEVENT
UID:bdb94385bd5bfc0ab73e3d927ff8a53e
SUMMARY:Francisco Fullana (Violine), Sinfonieorchester Aachen, Christopher Ward (Leitung)
URL:https://www.concerti.de/termine/francisco-fullana-violine-sinfonieorchester-aachen-christopher-ward-leitung-eurogress-aachen-723233/
DTSTART;TZID=Europe/Berlin:20260531T180000
DTEND;TZID=Europe/Berlin:20260531T200000
DESCRIPTION:Interpreten: Francisco Fullana (Violine)\, Sinfonieorchester Aachen\, Christopher Ward (Leitung) \nProgramm: Šenk: Elements\, Britten: Violin Concerto op. 15\, Bartók: Konzert für Orchester \nhttps://www.concerti.de/termine/francisco-fullana-violine-sinfonieorchester-aachen-christopher-ward-leitung-eurogress-aachen-723233/
LOCATION:Eurogress Aachen\, Monheimsallee 48\, 52062 Aachen
END:VEVENT
END:VCALENDAR