BEGIN:VCALENDAR
VERSION:2.0
PRODID:concerti//https://www.concerti.de
CALSCALE:GREGORIAN
BEGIN:VTIMEZONE
TZID:Europe/Berlin
X-LIC-LOCATION:Europe/Berlin
BEGIN:DAYLIGHT
TZOFFSETFROM:+0100
TZOFFSETTO:+0200
TZNAME:CEST
DTSTART:19700329T020000
RRULE:FREQ=YEARLY;BYMONTH=3;BYDAY=-1SU
END:DAYLIGHT
BEGIN:STANDARD
TZOFFSETFROM:+0200
TZOFFSETTO:+0100
TZNAME:CET
DTSTART:19701025T030000
RRULE:FREQ=YEARLY;BYMONTH=10;BYDAY=-1SU
END:STANDARD
END:VTIMEZONE
BEGIN:VEVENT
UID:7ed9aa739989bbe04d103ce94581c03b
SUMMARY:Jonas Erni (Violine), Alexander Besa (Viola), Sebastian Diezig (Violoncello), Petra Besa (Klavier)
URL:https://www.concerti.de/termine/jonas-erni-violine-alexander-besa-viola-sebastian-diezig-violoncello-petra-besa-klavier-604839/
DTSTART;TZID=Europe/Berlin:20260517T111500
DTEND;TZID=Europe/Berlin:20260517T131500
DESCRIPTION:Interpreten: Jonas Erni (Violine)\, Alexander Besa (Viola)\, Sebastian Diezig (Violoncello)\, Petra Besa (Klavier) \nProgramm: Debussy: Klaviertrio D-Dur\, Fauré: Klavierquartett Nr. 1 c-Moll op. 15 \nhttps://www.concerti.de/termine/jonas-erni-violine-alexander-besa-viola-sebastian-diezig-violoncello-petra-besa-klavier-604839/
LOCATION:Orchesterhaus Kriens\, Luzern
END:VEVENT
END:VCALENDAR