BEGIN:VCALENDAR
VERSION:2.0
PRODID:concerti//https://www.concerti.de
CALSCALE:GREGORIAN
BEGIN:VTIMEZONE
TZID:Europe/Berlin
X-LIC-LOCATION:Europe/Berlin
BEGIN:DAYLIGHT
TZOFFSETFROM:+0100
TZOFFSETTO:+0200
TZNAME:CEST
DTSTART:19700329T020000
RRULE:FREQ=YEARLY;BYMONTH=3;BYDAY=-1SU
END:DAYLIGHT
BEGIN:STANDARD
TZOFFSETFROM:+0200
TZOFFSETTO:+0100
TZNAME:CET
DTSTART:19701025T030000
RRULE:FREQ=YEARLY;BYMONTH=10;BYDAY=-1SU
END:STANDARD
END:VTIMEZONE
BEGIN:VEVENT
UID:9c33cbe23be25b284b85453dd1b6121b
SUMMARY:Sol Gabetta (Violoncello), Celloensemble des Tonhalle-Orchesters Zürich
URL:https://www.concerti.de/termine/sol-gabetta-violoncello-celloensemble-des-tonhalle-orchesters-zuerich-tonhalle-zuerich-715352/
DTSTART;TZID=Europe/Berlin:20260608T193000
DTEND;TZID=Europe/Berlin:20260608T213000
DESCRIPTION:Interpreten: Sol Gabetta (Violoncello)\, Celloensemble des Tonhalle-Orchesters Zürich \nhttps://www.concerti.de/termine/sol-gabetta-violoncello-celloensemble-des-tonhalle-orchesters-zuerich-tonhalle-zuerich-715352/
LOCATION:Tonhalle Zürich\, Claridenstrasse 7\, 8002 Zürich
END:VEVENT
END:VCALENDAR