BEGIN:VCALENDAR
VERSION:2.0
PRODID:concerti//https://www.concerti.de
CALSCALE:GREGORIAN
BEGIN:VTIMEZONE
TZID:Europe/Berlin
X-LIC-LOCATION:Europe/Berlin
BEGIN:DAYLIGHT
TZOFFSETFROM:+0100
TZOFFSETTO:+0200
TZNAME:CEST
DTSTART:19700329T020000
RRULE:FREQ=YEARLY;BYMONTH=3;BYDAY=-1SU
END:DAYLIGHT
BEGIN:STANDARD
TZOFFSETFROM:+0200
TZOFFSETTO:+0100
TZNAME:CET
DTSTART:19701025T030000
RRULE:FREQ=YEARLY;BYMONTH=10;BYDAY=-1SU
END:STANDARD
END:VTIMEZONE
BEGIN:VEVENT
UID:021015687875e2195710d44f36b30c01
SUMMARY:Staatsorchester Braunschweig, Srba Dinić (Leitung)
URL:https://www.concerti.de/termine/mario-notaristefano-piccolofloete-staatsorchester-braunschweig-srba-dinic-leitung-staatstheater-braunschweig-547705/
DTSTART;TZID=Europe/Berlin:20260607T110000
DTEND;TZID=Europe/Berlin:20260607T130000
DESCRIPTION:Interpreten: Staatsorchester Braunschweig\, Srba Dinić (Leitung) \nProgramm: Smyth: Ouvertüre zu „The Wreckers“\, Schostakowitsch: Die Hinrichtung des Stepan Rasin & Sinfonie Nr. 5 in d-Moll op. 47 \nhttps://www.concerti.de/termine/mario-notaristefano-piccolofloete-staatsorchester-braunschweig-srba-dinic-leitung-staatstheater-braunschweig-547705/
LOCATION:Staatstheater Braunschweig\, Am Theater\, 38100 Braunschweig
END:VEVENT
END:VCALENDAR