BEGIN:VCALENDAR
VERSION:2.0
PRODID:concerti//https://www.concerti.de
CALSCALE:GREGORIAN
BEGIN:VTIMEZONE
TZID:Europe/Berlin
X-LIC-LOCATION:Europe/Berlin
BEGIN:DAYLIGHT
TZOFFSETFROM:+0100
TZOFFSETTO:+0200
TZNAME:CEST
DTSTART:19700329T020000
RRULE:FREQ=YEARLY;BYMONTH=3;BYDAY=-1SU
END:DAYLIGHT
BEGIN:STANDARD
TZOFFSETFROM:+0200
TZOFFSETTO:+0100
TZNAME:CET
DTSTART:19701025T030000
RRULE:FREQ=YEARLY;BYMONTH=10;BYDAY=-1SU
END:STANDARD
END:VTIMEZONE
BEGIN:VEVENT
UID:38fae1548fdad2138d5ea0349e124c0e
SUMMARY:Bizet: Carmen
URL:https://www.concerti.de/termine/bizet-carmen-deutsche-oper-360195/
DTSTART;TZID=Europe/Berlin:20260612T193000
DTEND;TZID=Europe/Berlin:20260612T213000
DESCRIPTION:Interpreten: Aleksandra Meteleva (Carmen)\, Maria Motolygina (Micaëla)\, Attilio Glaser (Don José)\, Meechot Marrero (Frasquita)\, Martina Baroni (Mercédès)\, Byung Gil Kim (Escamillo)\, Anna Handler (Leitung)\, Ole Anders Tandberg (Regie) \nhttps://www.concerti.de/termine/bizet-carmen-deutsche-oper-360195/
LOCATION:Deutsche Oper Berlin\, Bismarckstr. 35\, 10627 Berlin
END:VEVENT
END:VCALENDAR