BEGIN:VCALENDAR
VERSION:2.0
PRODID:concerti//https://www.concerti.de
CALSCALE:GREGORIAN
BEGIN:VTIMEZONE
TZID:Europe/Berlin
X-LIC-LOCATION:Europe/Berlin
BEGIN:DAYLIGHT
TZOFFSETFROM:+0100
TZOFFSETTO:+0200
TZNAME:CEST
DTSTART:19700329T020000
RRULE:FREQ=YEARLY;BYMONTH=3;BYDAY=-1SU
END:DAYLIGHT
BEGIN:STANDARD
TZOFFSETFROM:+0200
TZOFFSETTO:+0100
TZNAME:CET
DTSTART:19701025T030000
RRULE:FREQ=YEARLY;BYMONTH=10;BYDAY=-1SU
END:STANDARD
END:VTIMEZONE
BEGIN:VEVENT
UID:dee24ebfa6725ef04660c51016a6c919
SUMMARY:Lillinger: Vom Fischer und seiner Frau
URL:https://www.concerti.de/termine/lillinger-vom-fischer-und-seiner-frau-landestheater-detmold-694551/
DTSTART;TZID=Europe/Berlin:20260705T193000
DTEND;TZID=Europe/Berlin:20260705T213000
DESCRIPTION:Interpreten: Claudio Novati (Leitung)\, Katharina Torwesten (Choreografie) \nhttps://www.concerti.de/termine/lillinger-vom-fischer-und-seiner-frau-landestheater-detmold-694551/
LOCATION:Landestheater Detmold\, Theaterpl. 1\, 32756 Detmold
END:VEVENT
END:VCALENDAR