BEGIN:VCALENDAR
VERSION:2.0
PRODID:concerti//https://www.concerti.de
CALSCALE:GREGORIAN
BEGIN:VTIMEZONE
TZID:Europe/Berlin
X-LIC-LOCATION:Europe/Berlin
BEGIN:DAYLIGHT
TZOFFSETFROM:+0100
TZOFFSETTO:+0200
TZNAME:CEST
DTSTART:19700329T020000
RRULE:FREQ=YEARLY;BYMONTH=3;BYDAY=-1SU
END:DAYLIGHT
BEGIN:STANDARD
TZOFFSETFROM:+0200
TZOFFSETTO:+0100
TZNAME:CET
DTSTART:19701025T030000
RRULE:FREQ=YEARLY;BYMONTH=10;BYDAY=-1SU
END:STANDARD
END:VTIMEZONE
BEGIN:VEVENT
UID:7ce40d8552e5e79c9b5abde4e3a4512a
SUMMARY:Klassik trifft Romantik
URL:https://www.concerti.de/termine/kammerkonzert-klassik-trifft-romantik-694528/
DTSTART;TZID=Europe/Berlin:20260531T150000
DTEND;TZID=Europe/Berlin:20260531T170000
DESCRIPTION:Interpreten: Yongchun Dou (Violine)\, Sandra Fleischmann (Violine)\, Zhechao Xie-Kehe (Viola)\, Johannes Haastert (Violoncello) \nhttps://www.concerti.de/termine/kammerkonzert-klassik-trifft-romantik-694528/
LOCATION:Weserrenaissance-Museum Schloß Brake\, Lemgo
END:VEVENT
END:VCALENDAR