BEGIN:VCALENDAR
VERSION:2.0
PRODID:concerti//https://www.concerti.de
CALSCALE:GREGORIAN
BEGIN:VTIMEZONE
TZID:Europe/Berlin
X-LIC-LOCATION:Europe/Berlin
BEGIN:DAYLIGHT
TZOFFSETFROM:+0100
TZOFFSETTO:+0200
TZNAME:CEST
DTSTART:19700329T020000
RRULE:FREQ=YEARLY;BYMONTH=3;BYDAY=-1SU
END:DAYLIGHT
BEGIN:STANDARD
TZOFFSETFROM:+0200
TZOFFSETTO:+0100
TZNAME:CET
DTSTART:19701025T030000
RRULE:FREQ=YEARLY;BYMONTH=10;BYDAY=-1SU
END:STANDARD
END:VTIMEZONE
BEGIN:VEVENT
UID:efb0c16a161bd3eb99e206c09c7b40bb
SUMMARY:Smyth: The Wreckers
URL:https://www.concerti.de/termine/smyth-the-wreckers-landestheater-detmold-694498/
DTSTART;TZID=Europe/Berlin:20260429T193000
DTEND;TZID=Europe/Berlin:20260429T213000
DESCRIPTION:Interpreten: Per-Otto Johansson (Leitung)\, Kirsten Uttendorf (Regie) \nhttps://www.concerti.de/termine/smyth-the-wreckers-landestheater-detmold-694498/
LOCATION:Landestheater Detmold\, Theaterpl. 1\, 32756 Detmold
END:VEVENT
END:VCALENDAR