BEGIN:VCALENDAR
VERSION:2.0
PRODID:concerti//https://www.concerti.de
CALSCALE:GREGORIAN
BEGIN:VTIMEZONE
TZID:Europe/Berlin
X-LIC-LOCATION:Europe/Berlin
BEGIN:DAYLIGHT
TZOFFSETFROM:+0100
TZOFFSETTO:+0200
TZNAME:CEST
DTSTART:19700329T020000
RRULE:FREQ=YEARLY;BYMONTH=3;BYDAY=-1SU
END:DAYLIGHT
BEGIN:STANDARD
TZOFFSETFROM:+0200
TZOFFSETTO:+0100
TZNAME:CET
DTSTART:19701025T030000
RRULE:FREQ=YEARLY;BYMONTH=10;BYDAY=-1SU
END:STANDARD
END:VTIMEZONE
BEGIN:VEVENT
UID:62e5a9a53d356ffcb8e4361d57cc3c7a
SUMMARY:Anna Vinnitskaya (Klavier), Berner Symphonieorchester, Krzysztof Urbański (Leitung)
URL:https://www.concerti.de/termine/anna-vinnitskaya-klavier-berner-symphonieorchester-krzysztof-urbanski-leitung-casino-bern-689434/
DTSTART;TZID=Europe/Berlin:20260424T193000
DTEND;TZID=Europe/Berlin:20260424T213000
DESCRIPTION:Interpreten: Anna Vinnitskaya (Klavier)\, Berner Symphonieorchester\, Krzysztof Urbański (Leitung) \nProgramm: Rachmaninow: Klavierkonzerte Nr. 4 g-Moll op. 40 & Nr. 3 d-Moll op. 30 \nhttps://www.concerti.de/termine/anna-vinnitskaya-klavier-berner-symphonieorchester-krzysztof-urbanski-leitung-casino-bern-689434/
LOCATION:Casino Bern\, Casinoplatz 1\, 3011 Bern
END:VEVENT
END:VCALENDAR