BEGIN:VCALENDAR
VERSION:2.0
PRODID:concerti//https://www.concerti.de
CALSCALE:GREGORIAN
BEGIN:VTIMEZONE
TZID:Europe/Berlin
X-LIC-LOCATION:Europe/Berlin
BEGIN:DAYLIGHT
TZOFFSETFROM:+0100
TZOFFSETTO:+0200
TZNAME:CEST
DTSTART:19700329T020000
RRULE:FREQ=YEARLY;BYMONTH=3;BYDAY=-1SU
END:DAYLIGHT
BEGIN:STANDARD
TZOFFSETFROM:+0200
TZOFFSETTO:+0100
TZNAME:CET
DTSTART:19701025T030000
RRULE:FREQ=YEARLY;BYMONTH=10;BYDAY=-1SU
END:STANDARD
END:VTIMEZONE
BEGIN:VEVENT
UID:bcc04bc1c8c3d10f2403b32ba188ddc2
SUMMARY:Jan Lisiecki (Klavier)
URL:https://www.concerti.de/termine/jan-lisiecki-klavier-staatstheater-braunschweig-690221/
DTSTART;TZID=Europe/Berlin:20260517T200000
DTEND;TZID=Europe/Berlin:20260517T220000
DESCRIPTION:Interpreten: Jan Lisiecki (Klavier) \nProgramm: Schubert: 16 Deutsche Tänze D 783\, Bartók: Rumänische Volkstänze\, Werke von Brahms\, Chopin\, Ginastera\, Piazzolla u. a. \nhttps://www.concerti.de/termine/jan-lisiecki-klavier-staatstheater-braunschweig-690221/
LOCATION:Staatstheater Braunschweig\, Am Theater\, 38100 Braunschweig
END:VEVENT
END:VCALENDAR