BEGIN:VCALENDAR
VERSION:2.0
PRODID:concerti//https://www.concerti.de
CALSCALE:GREGORIAN
BEGIN:VTIMEZONE
TZID:Europe/Berlin
X-LIC-LOCATION:Europe/Berlin
BEGIN:DAYLIGHT
TZOFFSETFROM:+0100
TZOFFSETTO:+0200
TZNAME:CEST
DTSTART:19700329T020000
RRULE:FREQ=YEARLY;BYMONTH=3;BYDAY=-1SU
END:DAYLIGHT
BEGIN:STANDARD
TZOFFSETFROM:+0200
TZOFFSETTO:+0100
TZNAME:CET
DTSTART:19701025T030000
RRULE:FREQ=YEARLY;BYMONTH=10;BYDAY=-1SU
END:STANDARD
END:VTIMEZONE
BEGIN:VEVENT
UID:094f91eb196c5565269696fb1e061e54
SUMMARY:Verdi: Stiffelio
URL:https://www.concerti.de/termine/verdi-stiffelio-theater-an-der-wien-685557/
DTSTART;TZID=Europe/Berlin:20260521T190000
DTEND;TZID=Europe/Berlin:20260521T210000
DESCRIPTION:Interpreten: Luciano Ganci (Stiffelio)\, Joyce El-Khoury (Lina)\, Štěpánka Pučálková (Dorotea)\, Franco Vassallo (Stankar)\, Alessio Cacciamani (Jorg)\, Luigi Morassi (Raffaele)\, James Kryshak (Federico)\, Jérémie Rhorer (Leitung)\, Vasily Barkhatov (Regie) \nhttps://www.concerti.de/termine/verdi-stiffelio-theater-an-der-wien-685557/
LOCATION:Theater an der Wien\, Linke Wienzeile 6\, 1060 Wien
END:VEVENT
END:VCALENDAR